BEGIN:VCALENDAR
VERSION:2.0
PRODID:-//The Alex Cambridge - ECPv6.15.20//NONSGML v1.0//EN
CALSCALE:GREGORIAN
METHOD:PUBLISH
X-ORIGINAL-URL:https://www.thealexcambridge.com
X-WR-CALDESC:Events for The Alex Cambridge
REFRESH-INTERVAL;VALUE=DURATION:PT1H
X-Robots-Tag:noindex
X-PUBLISHED-TTL:PT1H
BEGIN:VTIMEZONE
TZID:Europe/London
BEGIN:DAYLIGHT
TZOFFSETFROM:+0000
TZOFFSETTO:+0100
TZNAME:BST
DTSTART:20240331T010000
END:DAYLIGHT
BEGIN:STANDARD
TZOFFSETFROM:+0100
TZOFFSETTO:+0000
TZNAME:GMT
DTSTART:20241027T010000
END:STANDARD
BEGIN:DAYLIGHT
TZOFFSETFROM:+0000
TZOFFSETTO:+0100
TZNAME:BST
DTSTART:20250330T010000
END:DAYLIGHT
BEGIN:STANDARD
TZOFFSETFROM:+0100
TZOFFSETTO:+0000
TZNAME:GMT
DTSTART:20251026T010000
END:STANDARD
BEGIN:DAYLIGHT
TZOFFSETFROM:+0000
TZOFFSETTO:+0100
TZNAME:BST
DTSTART:20260329T010000
END:DAYLIGHT
BEGIN:STANDARD
TZOFFSETFROM:+0100
TZOFFSETTO:+0000
TZNAME:GMT
DTSTART:20261025T010000
END:STANDARD
END:VTIMEZONE
BEGIN:VEVENT
DTSTART;TZID=Europe/London:20250424T190000
DTEND;TZID=Europe/London:20250424T223000
DTSTAMP:20260421T190632
CREATED:20250409T121958Z
LAST-MODIFIED:20250409T121958Z
UID:10000006-1745521200-1745533800@www.thealexcambridge.com
SUMMARY:Karaoke Night: Your Favourite Song
DESCRIPTION:Bring your best singing voices to perform “your favourite song” at this month’s Karaoke!!  A night that will be filled with love for music and a passion for singing. Everyone is welcome with free entry all night!! ✨Thursday 24th April\, 7pm til late! ✨ \nReserve your table by clicking here
URL:https://www.thealexcambridge.com/event/karaoke-night-your-favourite-song/
LOCATION:The Alexandra Arms\, 22 Gwydir Street\, Cambridge\, Cambridgeshire\, CB1 2LL\, United Kingdom
CATEGORIES:Music Events
ATTACH;FMTTYPE=image/jpeg:https://www.thealexcambridge.com/wp-content/uploads/2025/04/Poster-Karaoke-music-night-landscape.jpg
ORGANIZER;CN="The Alex":MAILTO:info@thealexcambridge.com
END:VEVENT
END:VCALENDAR