BEGIN:VCALENDAR
VERSION:2.0
PRODID:-//The Alex Cambridge - ECPv6.15.20//NONSGML v1.0//EN
CALSCALE:GREGORIAN
METHOD:PUBLISH
X-WR-CALNAME:The Alex Cambridge
X-ORIGINAL-URL:https://www.thealexcambridge.com
X-WR-CALDESC:Events for The Alex Cambridge
REFRESH-INTERVAL;VALUE=DURATION:PT1H
X-Robots-Tag:noindex
X-PUBLISHED-TTL:PT1H
BEGIN:VTIMEZONE
TZID:Europe/London
BEGIN:DAYLIGHT
TZOFFSETFROM:+0000
TZOFFSETTO:+0100
TZNAME:BST
DTSTART:20240331T010000
END:DAYLIGHT
BEGIN:STANDARD
TZOFFSETFROM:+0100
TZOFFSETTO:+0000
TZNAME:GMT
DTSTART:20241027T010000
END:STANDARD
BEGIN:DAYLIGHT
TZOFFSETFROM:+0000
TZOFFSETTO:+0100
TZNAME:BST
DTSTART:20250330T010000
END:DAYLIGHT
BEGIN:STANDARD
TZOFFSETFROM:+0100
TZOFFSETTO:+0000
TZNAME:GMT
DTSTART:20251026T010000
END:STANDARD
BEGIN:DAYLIGHT
TZOFFSETFROM:+0000
TZOFFSETTO:+0100
TZNAME:BST
DTSTART:20260329T010000
END:DAYLIGHT
BEGIN:STANDARD
TZOFFSETFROM:+0100
TZOFFSETTO:+0000
TZNAME:GMT
DTSTART:20261025T010000
END:STANDARD
END:VTIMEZONE
BEGIN:VEVENT
DTSTART;TZID=Europe/London:20250607T123000
DTEND;TZID=Europe/London:20250607T210000
DTSTAMP:20260421T161944
CREATED:20250514T185742Z
LAST-MODIFIED:20250514T185742Z
UID:10000009-1749299400-1749330000@www.thealexcambridge.com
SUMMARY:Cambridge Buskers Festival
DESCRIPTION:The sound of guitars\, voices\, accordions\, cajons and more will be heard across Cambridge on the weekend of 7-8 June. \nThe Cambridge Buskers Festival will take place at some of the city’s leading music venues\, each of which will host a rota of buskers throughout the day in a showcase of FREE live music.\nHeld to raise money for next years Strawberry Fair. \nAlex line-up:\n \n 
URL:https://www.thealexcambridge.com/event/cambridge-buskers-festival/2025-06-07/
LOCATION:The Alexandra Arms\, 22 Gwydir Street\, Cambridge\, Cambridgeshire\, CB1 2LL\, United Kingdom
CATEGORIES:Music Events
ATTACH;FMTTYPE=image/jpeg:https://www.thealexcambridge.com/wp-content/uploads/2025/05/Cambuskers-Banner.jpg
END:VEVENT
BEGIN:VEVENT
DTSTART;TZID=Europe/London:20250608T123000
DTEND;TZID=Europe/London:20250608T190000
DTSTAMP:20260421T161944
CREATED:20250514T185742Z
LAST-MODIFIED:20250514T185742Z
UID:10000010-1749385800-1749409200@www.thealexcambridge.com
SUMMARY:Cambridge Buskers Festival
DESCRIPTION:The sound of guitars\, voices\, accordions\, cajons and more will be heard across Cambridge on the weekend of 7-8 June. \nThe Cambridge Buskers Festival will take place at some of the city’s leading music venues\, each of which will host a rota of buskers throughout the day in a showcase of FREE live music.\nHeld to raise money for next years Strawberry Fair. \nAlex line-up:\n \n 
URL:https://www.thealexcambridge.com/event/cambridge-buskers-festival/2025-06-08/
LOCATION:The Alexandra Arms\, 22 Gwydir Street\, Cambridge\, Cambridgeshire\, CB1 2LL\, United Kingdom
CATEGORIES:Music Events
ATTACH;FMTTYPE=image/jpeg:https://www.thealexcambridge.com/wp-content/uploads/2025/05/Cambuskers-Banner.jpg
END:VEVENT
END:VCALENDAR